2.43840000000000
0.00000000000000
0.00000000000000
-2.43840000000000
499997.27086117857834
4080811.39931309781969
