2.43840000000000
0.00000000000000
0.00000000000000
-2.43840000000000
488838.68347296322463
4080811.53448555991054
