2.43840000000000
0.00000000000000
0.00000000000000
-2.43840000000000
499998.53841100860154
4053081.45906166220084
