<?xml version="1.0" encoding="ISO-8859-1"?>
<metadata>
10  IDENTIFICATION INFORMATION
10.01  Language of Dataset: English
10.03  Abstract: This data set originated as a Digital Raster Graphic (DRG)
produced from a scanned USGS topographic map. The DRG included the collar
information and was georeferenced to the UTM grid. The current data set has
been modified to remove the collar information and has been georeferenced to
UTM Zone 13 to be incorporated into a seamless dataset for the Bureau of Land
Management.
10.04  Purpose: To provide a DRG data set that can be combined in a seamless
manner to support the Bureau of Land Management's Land and Records Information
Systems (LRIS).
10.07  Data Set Credit: This clipped DRG was derived by Spatial Data
Integrations, Inc., of Louisville, KY, under contract to the Bureau of Land
Management from a USGS DRG.
10.08  Identification Citation: Cimarron
10.09.02  Initiative Name:  Bureau of Land Management's Land and Records
Information System (LRIS)
10.11.01  Progress: Completed
10.12.01.01  West Bounding Coordinate -105.000000
10.12.01.02  East Bounding Coordinate -104.875000
10.12.01.03  North Bounding Coordinate 36.625000
10.12.01.04  South Bounding Coordinate 36.500000
10.12.02.01  Geographic Extent Name: Cimarron
10.13  Category:  Topography
10.13.01  Theme Code:  3
10.13.02.01  Keywords:  Digital Raster Graphic
10.13.02.02  Keyword Type Code:  Theme
10.13.02.01  Keywords:  DRG
10.13.02.02  Keyword Type Code:  Theme
10.13.02.01  Keywords:  USGS
10.13.02.02  Keyword Type Code:  Theme
10.13.02.01  Keywords:  Topographic Map
10.13.02.02  Keyword Type Code:  Theme
10.13.02.01  Keywords: Cimarron
10.13.02.02  Keyword Type Code:  Place
10.13.02.01  Keywords: New Mexico
10.13.02.02  Keyword Type Code: Place
10.13.02.03  Keyword Thesaurus Name: Department of Commerce, 1977, Countries,
Dependencies, Areas of Special Sovereignty, and their Principal Administrative
Divisions (Federal Information Processing Standard 10-3): Washington, Department
of Commerce, National Institute of Standards and Technology.
10.14.02  Responsible Party:  USGS
10.14.03  Responsible Party Position:  Publisher
10.14.04  Responsible Party Role Code:  02
10.14.05.02  City:  Reston
10.14.05.03  Administrative Area:  Virginia
10.14.05.05  Country:  USA
10.14.02  Responsible Party Organization:  Bureau of Land Management
10.14.03  Responsible Party Position:  Point of contact.
10.14.04  Responsible Party Role Code: 08
10.14.05.01  Postal Address:  Denver Federal Center, PO Box 25047
10.14.05.02  City:  Denver
10.14.05.03  Administrative Area:  Colorado
10.14.05.04  Postal Code:  80225-0047
10.14.05.05  Country:  USA
10.14.02  Responsible Party Organization:  Spatial Data Integrations, Inc.
10.14.03  Responsible Party Position:  Point of contact.
10.14.04  Responsible Party Role Code:  06,07
10.14.05.01  Postal Address:  710 West Main Street, Suite 108
10.14.05.02  City:  Louisville
10.14.05.03  Administrative Area:  Kentucky
10.14.05.04  Postal Code:  40202
10.14.05.05  Country:  USA
10.14.05.06  Voice Telephone:  502-568-2591
10.14.05.08  Facsimile Telephone:  502-568-6929
10.14.05.09  Electronic Mail Service:  info@sdimaps.com
10.14.05.10  Address On-line Resource:  http://www.sdimaps.com
10.14.05.11  Hours of Service:  8:00am - 5:00pm, EST
10.15.01  Browse Graphic File Name:  index.shp
10.18.02.01  Access Constraints:  None
10.18.02.02  Use Constraints:  Acknowledgement of USGS and the Bureau of Land
Management would be appreciated.
20  DATA QUALITY INFORMATION
20.01.04  Data Quality Assessment:  The DRG is an 8-bit color image that employs
a color palette to ensure uniform colors throughout the particular DRG series.
All DRGs within a series must have the same RGB values.
20.01.04.01  Data Quality Report Type Code:  1
30  LINEAGE INFORMATION
30.01.02  Use:  This data set is intended for use for topographic
referencing within an automated system.
30.02   Lineage:  USGS topographic map; USGS DRG, NAD 27, UTM; Clipped USGS DRG,
NAD27, UTM.
30.02.04  Lineage Report:  The original source was a USGS topographic map. This
paper map was scanned and converted to a Digital Raster Graphic (DRG).
30.02.04.02  Source Information:  USGS topographic map; USGS DRG NAD 27
30.02.04.02.01  Source Description:  USGS topographic map; paper format
30.02.04.02.02  Source Date/Time:  1987
30.02.04.02.03  Source Scale Denominator:  24000
30.02.04.02.04  Source Datum:  NAD27
30.02.04.02.06.03.02  Responsible Party Organization:  U.S. Geological Survey,
Rolla-ESIC
30.02.04.02.06.03.03  Responsible Party Position:  Publisher
30.02.04.02.06.03.04  Responsible Party Role Code:  02
30.02.04.02.06.03.05.01  Postal Address:  1400 Independence Road., MS231
30.02.04.02.06.03.05.02  City:  Rolla
30.02.04.02.06.03.05.03  Administrative Area:  Missouri
30.02.04.02.06.03.05.04  Postal Code:  65401-2602
30.02.04.02.06.03.05.05  Country:  USA
30.02.04.02.07  Process Step:  Create Digital Raster Graphic (DRG)
30.02.04.02.07.01  Process Description: The production procedures,
instrumentation, hardware, and software used in the collection of standard DRG
products vary depending on systems used at the contract, cooperator or USGS
production sites.  The majority of DRG data sets are acquired through
government contract.  The process step describes, in general, the process used
in the production of standard DRG data sets.
1. Production of a DRG begins with the scanning of a paper
7.5-minute topographic map (map1) on a high-resolution scanner.
Scanning resolutions range from 500 - 1000 dpi with the output file
running between 160-300 mb.
2. Removal of screens (descreening) and color quantization to reduce
the number of colors also takes place during the scanning phase.
3. The raw scan file is then transformed and georeferenced using UTM
coordinates of the sixteen 2.5-minute grid ticks, which are obtained
using the in-house produced program COORDAT and stored in a ground
control file.  Those sixteen 2.5-minute ticks are interactively
visited and assigned their respective UTM coordinates. USGS program
XSHAPES4 then performs a piecewise linear rubber sheet
transformation.
4. An output resolution of 2.4 meters (8.2 feet) is chosen in order
to resample the file to 250 dpi.
5.  The image file is converted to a TIFF and further reduced by
converting the file to a run length encoding Packbits
compression(type 32773).
6.  The color palette of the compressed DRG is then standardized by
replacing the original RGB values assigned during the scanning
process with standard RGB value combinations using the in-house
produced TIFFREMAP program.
7.  Prior to archiving the DRG undergoes the following quality
assurance procedures:
a. The color index values of each DRG are checked to ensure
the RGB combinations are consistent with the standardized
color palette.
b. All DRG files are inspected to ensure that they are
geometrically consistent with normal map presentation.
c. Selected DRG's are checked to ensure that data elements in
the DRG metadata file correspond to the map collar information
and to the information in the associated image file.
d. Selected DRG's are checked for georeferencing accuracy by
comparing the book value of latitude and longitude tick marks
with corresponding tick intersections in the DRG image.
e. Transformations are checked on selected DRG's by comparing
the positions of well defined points, such as UTM grid
intersections in the graphic product, with the corresponding
image points in the DRG.
USGS DRG production specifications are available on request from
the National Mapping Division and Mid-Continent Mapping Center by
contacting:
Rolla-ESIC
U.S. Geological Survey
1400 Independence Rd., MS231
Rolla, MO 65401-2602
Phone (573)308-3500
Facsimile (573)308-3615
E-mail to mcmcesic@usgs.gov
World Wide Web: http://mcmcweb.er.usgs.gov/drg/
30.02.04.02.07.02  Process Date/Time:  19970718
30.02.04.02.06.03.02  Responsible Party Organization:  Spatial Data Integrations
Inc.
30.02.04.02.06.03.03  Responsible Party Position:  Processor; distributor
30.02.04.02.06.03.04  Responsible Party Role Code:  06,07
30.02.04.02.06.03.05.01  Postal Address:  710 West Main Street, Suite 108
30.02.04.02.06.03.05.02  City:  Louisville
30.02.04.02.06.03.05.03  Administrative Area:  Kentucky
30.02.04.02.06.03.05.04  Postal Code:  40202
30.02.04.02.06.03.05.05  Country:  USA
30.02.04.02.06.03.05.06  Voice Telephone:  502-568-2591
30.02.04.02.06.03.05.08  Facsimile Telephone:  502-568-6929
30.02.04.02.06.03.05.09  Electronic Mail Service:  info@sdimaps.com
30.02.04.02.06.03.05.10  Address On-line Resource:  http://www.sdimaps.com
30.02.04.02.06.03.05.11  Hours of Service:  8:00am - 5:00pm, EST
30.02.04.02.07  Process Step:  Adjusting DRG to UTM Zone 13 and remapping
colormap and clipping collar.
30.02.04.02.07.01  Process Description:  The original DRGs are adjusted
(rubbersheeted) to fit an index coverage in NAD 27, UTM Zone 13.  The colormap
of the adjusted DRG is remapped to allow for the use of cell zero (0) as
nodata cells.  These nodata cells can be turned transparent in ArcView GIS 3.*
to allow adjacent clipped DRGs to be displayed as a seamless dataset.
Each raster entity or pixel contains a color index for 0 through 13
referencing a color palette of RGB values from 0 through 255 in which the
standard colors used in the DRG are defined.
USGS DRG Color Palette
Digital Number    Color       Red    Green    Blue
0  (Nodata) Black        0        0        0
1           White       255      255      255
2           Blue         0       151      164
3           Red         203       0        23
4           Brown       131       66       37
5           Green       201      234      157
6           Purple      137       51      128
7           Yellow      255      234       0
8         Light Blue    167      226      226
9         Light Red     255      184      184
10        Light Purple  218      179      214
11        Light Grey    209      209      209
12        Light Brown   207      164      142
13          Black        0        0        0
30.02.04.02.07.02  Process Date/Time:  30041999
40  SPATIAL DATA ORGANIZATION INFORMATION
40.01  Spatial Representation Type Code:  3
40.03.01  Raster Object Type Code:  3
50  SPATIAL REFERENCE SYSTEM INFORMATION
50.02.01  Spatial Reference System Type Code: 2
50.02.03.02  Coordinate Reference System:  Universal Transverse Mercator
50.02.03.02.08.01  Datum Identifier:  North American Datum 1927
50.02.03.02.08.04  Datum Type:  1
50.02.03.02.08.08.01  Elipsoid Identifier:  CLARKE1866
50.02.03.02.09.01  Coordinate System Identifier:  Universal Transverse Mercator
50.02.03.02.09.03  Coordinate System Type Code:  3
60  FEATURE CATALOG INFORMATION
70  DISTRIBUTION INFORMATION
70.01.01.02  Responsible Party Organization:  Spatial Data Integrations, Inc.
70.01.01.03  Responsible Party Position:  Distributor
70.01.01.04  Responsible Party Role Code:  07
70.01.01.05.01  Postal Address:  710 West Main Street, Suite 108
70.01.01.05.02  City:  Louisville
70.01.01.05.03  Administrative Area:  Kentucky
70.01.01.05.04  Postal Code:  40202
70.01.01.05.05  Country:  USA
70.01.01.05.06  Voice Telephone:  502-568-2591
70.01.01.05.08  Facsimile Telephone:  502-568-6929
70.01.01.05.09  Electronic Mail Service:  info@sdimaps.com
70.01.01.05.10  Address On-line Resource: http:\\www.sdimaps.com
70.01.01.05.11  Hours of Service:  8:00am - 5:00pm, EST
70.01.02  Distribution Identifier: 36104e8c.tif
70.01.03  Distributor Liability:  No warranty expressed or implied is made by
Spatial Data Integrations regarding the use of  the data, nor does the act of
distribution constitute any such warranty.  Spatial Data Integrations will
warrant the delivery of this product in computer-readable format and will offer
appropriate adjustment of credit when the product is determined unreadable by
correctly adjusted computer input peripherals, or when the physical medium is
delivered in damaged condition.  Requests for adjustment of credit must be made
within 30 days from the date of this shipment from the ordering site.
70.01.05.01  Fees:  Contact Spatial Data Integrations, Inc. for current
pricing
70.01.06.01  Distribution Format Name:  TIFF, Packbits Compression
70.01.06.03  Distribution Format Decompression Technique: None
70.01.06.05  Distribution Format Version Number: 6.0
70.01.06.09.02  Distribution Media:  CD-ROM
70.01.06.09.06.03  Recording Format:  ISO 9660; DRG image files with
corresponding metadata files
80  METADATA REFERENCE INFORMATION
80.04.01  Metadata Date:  30041999
80.05.02  Responsible Party Organization:  Spatial Data Integrations, Inc.
80.05.05.01  Postal Address:  710 West Main Street, Suite 108
80.05.05.02  City:  Louisville
80.05.05.03  Administrative Area:  Kentucky
80.05.05.04  Postal Code:  40202
80.05.05.05  Country:  USA
80.05.05.06  Voice Telephone:  502-568-2591
80.05.05.08  Facsimile Telephone:  502-568-6929
80.05.05.09  Electronic Mail Service:  info@sdimaps.com
80.05.05.10  Address On-line Resource: http://www.sdimaps.com
80.05.05.11  Hours of Service:  8:00am - 5:00pm, EST
80.06.01  Metadata Standard Name:  Draft ISO-15046-15
80.06.03  Level of Conformance Code: 1
80.08.01  Language of Metadata Code:  English
<Esri><MetaID>{DA3FC104-9F7E-47EC-84A8-2D2C0F7710A4}</MetaID><CreaDate>20040511</CreaDate><CreaTime>13312200</CreaTime><SyncOnce>FALSE</SyncOnce><SyncDate>20040511</SyncDate><SyncTime>13314900</SyncTime><ModDate>20040511</ModDate><ModTime>13314900</ModTime></Esri><dataqual><lineage><procstep><procdesc Sync="TRUE">Metadata imported.</procdesc><srcused Sync="TRUE">C:\DOCUME~1\gretchen\LOCALS~1\Temp\xml27D3.tmp</srcused><date Sync="TRUE">20040511</date><time Sync="TRUE">13312200</time></procstep></lineage></dataqual><idinfo><native Sync="TRUE">Microsoft Windows 2000 Version 5.1 (Build 2600) Service Pack 1; ESRI ArcCatalog 8.2.0.700</native><descript><langdata Sync="TRUE">en</langdata><abstract>REQUIRED: A brief narrative summary of the data set.</abstract><purpose>REQUIRED: A summary of the intentions with which the data set was developed.</purpose></descript><citation><citeinfo><origin>REQUIRED: The name of an organization or individual that developed the data set.</origin><pubdate>REQUIRED: The date when the data set is published or otherwise made available for release.</pubdate><title Sync="TRUE">36104e8c.tif</title><ftname Sync="TRUE">36104e8c.tif</ftname><geoform Sync="TRUE">remote-sensing image</geoform><onlink Sync="TRUE">\\GRETCHEN\I$\NFS2004\Topos\36104e8c.tif</onlink></citeinfo></citation><timeperd><current>REQUIRED: The basis on which the time period of content information is determined.</current><timeinfo><sngdate><caldate>REQUIRED: The year (and optionally month, or month and day) for which the data set corresponds to the ground.</caldate></sngdate></timeinfo></timeperd><status><progress>REQUIRED: The state of the data set.</progress><update>REQUIRED: The frequency with which changes and additions are made to the data set after the initial data set is completed.</update></status><spdom><bounding><westbc Sync="TRUE">-105.000016</westbc><eastbc Sync="TRUE">-104.874760</eastbc><northbc Sync="TRUE">36.625090</northbc><southbc Sync="TRUE">36.499897</southbc></bounding><lboundng><leftbc Sync="TRUE">499998.538411</leftbc><rightbc Sync="TRUE">511198.109611</rightbc><bottombc Sync="TRUE">4039202.086262</bottombc><topbc Sync="TRUE">4053081.459062</topbc></lboundng></spdom><keywords><theme><themekt>REQUIRED: Reference to a formally registered thesaurus or a similar authoritative source of theme keywords.</themekt><themekey>REQUIRED: Common-use word or phrase used to describe the subject of the data set.</themekey></theme></keywords><accconst>REQUIRED: Restrictions and legal prerequisites for accessing the data set.</accconst><useconst>REQUIRED: Restrictions and legal prerequisites for using the data set after access is granted.</useconst><natvform Sync="TRUE">Raster Dataset</natvform></idinfo><dataIdInfo><envirDesc Sync="TRUE">Microsoft Windows 2000 Version 5.1 (Build 2600) Service Pack 1; ESRI ArcCatalog 8.2.0.700</envirDesc><dataLang><languageCode Sync="TRUE" value="en"></languageCode></dataLang><idCitation><resTitle Sync="TRUE">36104e8c.tif</resTitle><presForm><PresFormCd Sync="TRUE" value="005"></PresFormCd></presForm></idCitation><spatRpType><SpatRepTypCd Sync="TRUE" value="002"></SpatRepTypCd></spatRpType><geoBox esriExtentType="native"><westBL Sync="TRUE">499998.538411</westBL><eastBL Sync="TRUE">511198.109611</eastBL><northBL Sync="TRUE">4053081.459062</northBL><southBL Sync="TRUE">4039202.086262</southBL><exTypeCode Sync="TRUE">1</exTypeCode></geoBox><geoBox esriExtentType="decdegrees"><westBL Sync="TRUE">-105.000016</westBL><eastBL Sync="TRUE">-104.87476</eastBL><northBL Sync="TRUE">36.62509</northBL><southBL Sync="TRUE">36.499897</southBL><exTypeCode Sync="TRUE">1</exTypeCode></geoBox></dataIdInfo><metainfo><langmeta Sync="TRUE">en</langmeta><metstdn Sync="TRUE">FGDC Content Standards for Digital Geospatial Metadata</metstdn><metstdv Sync="TRUE">FGDC-STD-001-1998</metstdv><mettc Sync="TRUE">local time</mettc><metc><cntinfo><cntorgp><cntper>REQUIRED: The person responsible for the metadata information.</cntper><cntorg>REQUIRED: The organization responsible for the metadata information.</cntorg></cntorgp><cntaddr><addrtype>REQUIRED: The mailing and/or physical address for the organization or individual.</addrtype><city>REQUIRED: The city of the address.</city><state>REQUIRED: The state or province of the address.</state><postal>REQUIRED: The ZIP or other postal code of the address.</postal></cntaddr><cntvoice>REQUIRED: The telephone number by which individuals can speak to the organization or individual.</cntvoice></cntinfo></metc><metd Sync="TRUE">20040511</metd><metextns><onlink Sync="TRUE">http://www.esri.com/metadata/esriprof80.html</onlink><metprof Sync="TRUE">ESRI Metadata Profile</metprof></metextns></metainfo><mdLang><languageCode Sync="TRUE" value="en"></languageCode></mdLang><mdStanName Sync="TRUE">ISO 19115 Geographic Information - Metadata</mdStanName><mdStanVer Sync="TRUE">DIS_ESRI1.0</mdStanVer><mdChar><CharSetCd Sync="TRUE" value="004"></CharSetCd></mdChar><mdHrLv><ScopeCd Sync="TRUE" value="005"></ScopeCd></mdHrLv><mdHrLvName Sync="TRUE">dataset</mdHrLvName><distinfo><resdesc Sync="TRUE">Downloadable Data</resdesc><stdorder><digform><digtinfo><transize Sync="TRUE">6.639</transize><dssize Sync="TRUE">6.639</dssize></digtinfo></digform></stdorder></distinfo><distInfo><distributor><distorTran><onLineSrc><orDesc Sync="TRUE">002</orDesc><linkage Sync="TRUE">file://\\GRETCHEN\I$\NFS2004\Topos\36104e8c.tif</linkage><protocol Sync="TRUE">Local Area Network</protocol></onLineSrc><transSize Sync="TRUE">6.639</transSize></distorTran><distorFormat><formatName Sync="TRUE">Raster Dataset</formatName></distorFormat></distributor></distInfo><spdoinfo><direct Sync="TRUE">Raster</direct><rastinfo><rasttype Sync="TRUE">Pixel</rasttype><rowcount Sync="TRUE">5692</rowcount><colcount Sync="TRUE">4593</colcount><rastxsz Sync="TRUE">2.438400</rastxsz><rastysz Sync="TRUE">2.438400</rastysz><rastbpp Sync="TRUE">8</rastbpp><vrtcount Sync="TRUE">1</vrtcount><rastorig Sync="TRUE">Upper Left</rastorig><rastcmap Sync="TRUE">TRUE</rastcmap><rastcomp Sync="TRUE">PackBits</rastcomp><rastband Sync="TRUE">1</rastband><rastdtyp Sync="TRUE">pixel codes</rastdtyp><rastplyr Sync="TRUE">TRUE</rastplyr><rastifor Sync="TRUE">TIFF</rastifor></rastinfo></spdoinfo><spref><horizsys><cordsysn><geogcsn Sync="TRUE">GCS_North_American_1927</geogcsn><projcsn Sync="TRUE">NAD_1927_UTM_Zone_13N</projcsn></cordsysn><planar><planci><plance Sync="TRUE">row and column</plance><plandu Sync="TRUE">meters</plandu><coordrep><absres Sync="TRUE">2.438400</absres><ordres Sync="TRUE">2.438400</ordres></coordrep></planci><gridsys><gridsysn Sync="TRUE">Universal Transverse Mercator</gridsysn><utm><utmzone Sync="TRUE">13</utmzone><transmer><sfctrmer Sync="TRUE">0.999600</sfctrmer><longcm Sync="TRUE">-105.000000</longcm><latprjo Sync="TRUE">0.000000</latprjo><feast Sync="TRUE">500000.000000</feast><fnorth Sync="TRUE">0.000000</fnorth></transmer></utm></gridsys></planar><geodetic><horizdn Sync="TRUE">North American Datum of 1927</horizdn><ellips Sync="TRUE">Clarke 1866</ellips><semiaxis Sync="TRUE">6378206.400000</semiaxis><denflat Sync="TRUE">294.978698</denflat></geodetic></horizsys></spref><refSysInfo><RefSystem><refSysID><identCode Sync="TRUE">NAD_1927_UTM_Zone_13N</identCode></refSysID></RefSystem></refSysInfo><spatRepInfo><GridSpatRep><numDims Sync="TRUE">2</numDims><axDimProps><Dimen><dimName><DimNameTypCd Sync="TRUE" value="002"></DimNameTypCd></dimName><dimSize Sync="TRUE">4593</dimSize><dimResol Sync="TRUE">2.4384</dimResol></Dimen><Dimen><dimName><DimNameTypCd Sync="TRUE" value="001"></DimNameTypCd></dimName><dimSize Sync="TRUE">5692</dimSize><dimResol Sync="TRUE">2.4384</dimResol></Dimen></axDimProps><cellGeo><CellGeoCd Sync="TRUE" value="002"></CellGeoCd></cellGeo><tranParaAv Sync="TRUE">1</tranParaAv></GridSpatRep></spatRepInfo><eainfo><detailed Name="Band_1"><enttyp><enttypl Sync="TRUE">Band_1</enttypl><enttypt Sync="TRUE">Table</enttypt><enttypc Sync="TRUE">256</enttypc></enttyp><attr><attrlabl Sync="TRUE">ObjectID</attrlabl><attalias Sync="TRUE">ObjectID</attalias><attrtype Sync="TRUE">OID</attrtype><attwidth Sync="TRUE">4</attwidth><atprecis Sync="TRUE">0</atprecis><attscale Sync="TRUE">0</attscale><attrdef Sync="TRUE">Internal feature number.</attrdef><attrdefs Sync="TRUE">ESRI</attrdefs><attrdomv><udom Sync="TRUE">Sequential unique whole numbers that are automatically generated.</udom></attrdomv></attr><attr><attrlabl Sync="TRUE">Value</attrlabl><attalias Sync="TRUE">Value</attalias><attrtype Sync="TRUE">Integer</attrtype><attwidth Sync="TRUE">0</attwidth><atprecis Sync="TRUE">0</atprecis><attscale Sync="TRUE">0</attscale></attr><attr><attrlabl Sync="TRUE">Red</attrlabl><attalias Sync="TRUE">Red</attalias><attrtype Sync="TRUE">Double</attrtype><attwidth Sync="TRUE">0</attwidth><atprecis Sync="TRUE">0</atprecis><attscale Sync="TRUE">0</attscale></attr><attr><attrlabl Sync="TRUE">Green</attrlabl><attalias Sync="TRUE">Green</attalias><attrtype Sync="TRUE">Double</attrtype><attwidth Sync="TRUE">0</attwidth><atprecis Sync="TRUE">0</atprecis><attscale Sync="TRUE">0</attscale></attr><attr><attrlabl Sync="TRUE">Blue</attrlabl><attalias Sync="TRUE">Blue</attalias><attrtype Sync="TRUE">Double</attrtype><attwidth Sync="TRUE">0</attwidth><atprecis Sync="TRUE">0</atprecis><attscale Sync="TRUE">0</attscale></attr></detailed></eainfo><mdDateSt Sync="TRUE">20040511</mdDateSt></metadata>
