2.43840000000000
0.00000000000000
0.00000000000000
-2.43840000000000
499999.08348014997318
4094678.43835152452812
