2.43840000000000
0.00000000000000
0.00000000000000
-2.43840000000000
488803.85852109332336
4053082.38849047012627
