2.43840000000000
0.00000000000000
0.00000000000000
-2.43840000000000
477609.79777065751841
4053101.32302106916904
