2.43840000000000
0.00000000000000
0.00000000000000
-2.43840000000000
488821.24165558448294
4066946.28352113207802
