2.43840000000000
0.00000000000000
0.00000000000000
-2.43840000000000
477645.19542041083332
4066969.64221525192261
