2.43840000000000
0.00000000000000
0.00000000000000
-2.43840000000000
477680.70510906405980
4080833.42948353709653
