2.43840000000000
0.00000000000000
0.00000000000000
-2.43840000000000
488858.62228164850967
4094678.16933704353869
