2.43840000000000
0.00000000000000
0.00000000000000
-2.43840000000000
477716.32666179689113
4094700.37374841794372
